BEGIN:VCALENDAR
VERSION:2.0
PRODID:-//Reaching Our Sisters Everywhere - ECPv6.11.2.1//NONSGML v1.0//EN
CALSCALE:GREGORIAN
METHOD:PUBLISH
X-ORIGINAL-URL:https://breastfeedingrose.org
X-WR-CALDESC:Events for Reaching Our Sisters Everywhere
REFRESH-INTERVAL;VALUE=DURATION:PT1H
X-Robots-Tag:noindex
X-PUBLISHED-TTL:PT1H
BEGIN:VTIMEZONE
TZID:UTC
BEGIN:STANDARD
TZOFFSETFROM:+0000
TZOFFSETTO:+0000
TZNAME:UTC
DTSTART:20210101T000000
END:STANDARD
END:VTIMEZONE
BEGIN:VTIMEZONE
TZID:America/New_York
BEGIN:DAYLIGHT
TZOFFSETFROM:-0500
TZOFFSETTO:-0400
TZNAME:EDT
DTSTART:20220313T070000
END:DAYLIGHT
BEGIN:STANDARD
TZOFFSETFROM:-0400
TZOFFSETTO:-0500
TZNAME:EST
DTSTART:20221106T060000
END:STANDARD
END:VTIMEZONE
BEGIN:VEVENT
DTSTART;TZID=UTC:20240927T093000
DTEND;TZID=UTC:20240928T150000
DTSTAMP:20260421T021217
CREATED:20240214T182017Z
LAST-MODIFIED:20240214T224202Z
UID:5006-1727429400-1727535600@breastfeedingrose.org
SUMMARY:2024 ROSE Community Transformers (RCT) - September
DESCRIPTION:Click the image to share it with your networks.\n\n\n\nThe ROSE Community Transformer Training is a two-day workshop utilizing an evidence-based curriculum on providing peer breastfeeding support. During the training\, individuals learn the essential skills for providing peer counseling in the area of lactation management and methods for making referrals to resources for interventions outside of their scope of practice. They are also taught how to lead ROSE breastfeeding clubs. \n\n\n\nApplicant Criteria:\n\n\n\n\nHas breastfed for at least 6 months within the past 5 years\n\n\n\nHas a positive breastfeeding experience\n\n\n\nHas a vested interest in providing breastfeeding peer support in your  community\n\n\n\nMust commit to attending the 2-day training\n\n\n\n\nApplication Process:\n\n\n\n\nComplete Application\n\n\n\nApplication is reviewed\n\n\n\nPhone Interview will take place 2 weeks prior to the scheduled training\n\n\n\nInvitation to 2-day training\n\n\n\n\n Click the button below to apply. When you apply\, you’ll also be added to our email list.
URL:https://breastfeedingrose.org/event/sept2024-rose-community-transformers/
CATEGORIES:ROSE Community Transformer
ATTACH;FMTTYPE=image/png:https://breastfeedingrose.org/wp-content/uploads/2024/02/2024-RCT-Dates.png
END:VEVENT
BEGIN:VEVENT
DTSTART;TZID=UTC:20240628T093000
DTEND;TZID=UTC:20240629T150000
DTSTAMP:20260421T021217
CREATED:20240214T191547Z
LAST-MODIFIED:20240214T224547Z
UID:5018-1719567000-1719673200@breastfeedingrose.org
SUMMARY:2024 ROSE Community Transformers (RCT) - June
DESCRIPTION:The ROSE Community Transformer Training is a two-day workshop utilizing an evidence-based curriculum on providing peer breastfeeding support. During the training\, individuals learn the essential skills for providing peer counseling in the area of lactation management and methods for making referrals to resources for interventions outside of their scope of practice. They are also taught how to lead ROSE breastfeeding clubs. \n\n\n\nApplicant Criteria:\n\n\n\n\nHas breastfed for at least 6 months within the past 5 years\n\n\n\nHas a positive breastfeeding experience\n\n\n\nHas a vested interest in providing breastfeeding peer support in your  community\n\n\n\nMust commit to attending the 2-day training\n\n\n\n\nApplication Process:\n\n\n\n\nComplete Application\n\n\n\nApplication is reviewed\n\n\n\nPhone Interview will take place 2 weeks prior to the scheduled training\n\n\n\nInvitation to 2-day training\n\n\n\n\n Click the button below to apply. When you apply\, you’ll also be added to our email list.
URL:https://breastfeedingrose.org/event/june2024-rose-community-transformers/
CATEGORIES:ROSE Community Transformer
ATTACH;FMTTYPE=image/png:https://breastfeedingrose.org/wp-content/uploads/2024/02/2024-RCT-Dates.png
END:VEVENT
BEGIN:VEVENT
DTSTART;TZID=UTC:20240329T093000
DTEND;TZID=UTC:20240330T150000
DTSTAMP:20260421T021217
CREATED:20240214T191113Z
LAST-MODIFIED:20240214T224412Z
UID:5015-1711704600-1711810800@breastfeedingrose.org
SUMMARY:2024 ROSE Community Transformers (RCT) - March
DESCRIPTION:The ROSE Community Transformer Training is a two-day workshop utilizing an evidence-based curriculum on providing peer breastfeeding support. During the training\, individuals learn the essential skills for providing peer counseling in the area of lactation management and methods for making referrals to resources for interventions outside of their scope of practice. They are also taught how to lead ROSE breastfeeding clubs. \n\n\n\nApplicant Criteria:\n\n\n\n\nHas breastfed for at least 6 months within the past 5 years\n\n\n\nHas a positive breastfeeding experience\n\n\n\nHas a vested interest in providing breastfeeding peer support in your  community\n\n\n\nMust commit to attending the 2-day training\n\n\n\n\nApplication Process:\n\n\n\n\nComplete Application\n\n\n\nApplication is reviewed\n\n\n\nPhone Interview will take place 2 weeks prior to the scheduled training\n\n\n\nInvitation to 2-day training\n\n\n\n\n Click the button below to apply. When you apply\, you’ll also be added to our email list.
URL:https://breastfeedingrose.org/event/march2024-rose-community-transformers/
CATEGORIES:ROSE Community Transformer
ATTACH;FMTTYPE=image/png:https://breastfeedingrose.org/wp-content/uploads/2024/02/2024-RCT-Dates.png
END:VEVENT
BEGIN:VEVENT
DTSTART;TZID=America/New_York:20220326T100000
DTEND;TZID=America/New_York:20220326T150000
DTSTAMP:20260421T021217
CREATED:20220126T165522Z
LAST-MODIFIED:20220321T163706Z
UID:3361-1648288800-1648306800@breastfeedingrose.org
SUMMARY:March RCT Training - 3/26
DESCRIPTION:The ROSE Community Transformer Training is a two-day workshop utilizing an evidence-based curriculum on providing peer breastfeeding support. During the training\, individuals learn the essential skills for providing peer counseling in the area of lactation management and methods for making referrals to resources for interventions outside of their scope of practice. They are also taught how to lead ROSE breastfeeding clubs. Individuals must apply to become a ROSE Community Transformer\, once the application is reviewed it is followed by a phone interview and then an invitation to the training. \nThose that participate and in this training will then be connected to all of the ROSE Community Transformers that have undergone our training. Through this network\, they will have access to resources and methods for tracking their reach. \nApplicant Criteria:\n\nHas breastfed for at least 6 months within the past 5 years\nHas a positive breastfeeding experience\nHas a vested interest in providing breastfeeding peer support in your  community\nMust commit to attending the 2-day training\n\nApplication Process:\n\nComplete Application\nApplication is reviewed\nPhone Interview will take place 2 weeks prior to the scheduled training\nInvitation to 2-day training\n\nApply Now
URL:https://breastfeedingrose.org/event/march-rct-training-3-26/
CATEGORIES:ROSE Community Transformer
ATTACH;FMTTYPE=image/jpeg:https://breastfeedingrose.org/wp-content/uploads/2022/01/ROSE-Website-Banner-1600-x-900-px-2.jpg
END:VEVENT
BEGIN:VEVENT
DTSTART;TZID=America/New_York:20220319T100000
DTEND;TZID=America/New_York:20220319T150000
DTSTAMP:20260421T021217
CREATED:20220126T161840Z
LAST-MODIFIED:20220126T165557Z
UID:3355-1647684000-1647702000@breastfeedingrose.org
SUMMARY:March RCT Training - 3/19
DESCRIPTION:The ROSE Community Transformer Training is a two-day workshop utilizing an evidence-based curriculum on providing peer breastfeeding support. During the training\, individuals learn the essential skills for providing peer counseling in the area of lactation management and methods for making referrals to resources for interventions outside of their scope of practice. They are also taught how to lead ROSE breastfeeding clubs. Individuals must apply to become a ROSE Community Transformer\, once the application is reviewed it is followed by a phone interview and then an invitation to the training. \nThose that participate and in this training will then be connected to all of the ROSE Community Transformers that have undergone our training. Through this network\, they will have access to resources and methods for tracking their reach. \nApplicant Criteria:\n\nHas breastfed for at least 6 months within the past 5 years\nHas a positive breastfeeding experience\nHas a vested interest in providing breastfeeding peer support in your  community\nMust commit to attending the 2-day training\n\nApplication Process:\n\nComplete Application\nApplication is reviewed\nPhone Interview will take place 2 weeks prior to the scheduled training\nInvitation to 2-day training\n\nApply Now
URL:https://breastfeedingrose.org/event/rct-trainings-3-19/
CATEGORIES:ROSE Community Transformer
ATTACH;FMTTYPE=image/png:https://breastfeedingrose.org/wp-content/uploads/2022/01/ROSE-Website-Banner-1600-x-900-px-8.png
END:VEVENT
BEGIN:VEVENT
DTSTART;TZID=UTC:20220121T100000
DTEND;TZID=UTC:20220122T150000
DTSTAMP:20260421T021217
CREATED:20220105T151629Z
LAST-MODIFIED:20220105T170508Z
UID:3244-1642759200-1642863600@breastfeedingrose.org
SUMMARY:January ROSE Community Transformer (RCT) Training
DESCRIPTION:The ROSE Community Transformer Training is a two-day workshop utilizing an evidence-based curriculum on providing peer breastfeeding support. During the training\, individuals learn the essential skills for providing peer counseling in the area of lactation management and methods for making referrals to resources for interventions outside of their scope of practice. They are also taught how to lead ROSE breastfeeding clubs. Individuals must apply to become a ROSE Community Transformer\, once the application is reviewed it is followed by a phone interview and then an invitation to the training. \nThose that participate and in this training will then be connected to all of the ROSE Community Transformers that have undergone our training. Through this network\, they will have access to resources and methods for tracking their reach. \nApplicant Criteria:\n\nHas breastfed for at least 6 months within the past 5 years\nHas a positive breastfeeding experience\nHas a vested interest in providing breastfeeding peer support in your  community\nMust commit to attending the 2-day training\n\nApplication Process:\n\nComplete Application\nApplication is reviewed\nPhone Interview will take place 2 weeks prior to the scheduled training\nInvitation to 2-day training\n\nApply Now
URL:https://breastfeedingrose.org/event/rose-community-transformer-training-jan-2022/
CATEGORIES:ROSE Community Transformer
ATTACH;FMTTYPE=image/png:https://breastfeedingrose.org/wp-content/uploads/2022/01/ROSE-RCT-Jan-2022.png
END:VEVENT
BEGIN:VEVENT
DTSTART;TZID=UTC:20211116T100000
DTEND;TZID=UTC:20211117T150000
DTSTAMP:20260421T021217
CREATED:20210924T183739Z
LAST-MODIFIED:20211022T155518Z
UID:3068-1637056800-1637161200@breastfeedingrose.org
SUMMARY:ROSE Community Transformer (RCT) Training
DESCRIPTION:Registration is now closed.\n  \nThe ROSE Community Transformer Training is a two-day workshop utilizing an evidence-based curriculum on providing peer breastfeeding support. During the training\, individuals learn the essential skills for providing peer counseling in the area of lactation management and methods for making referrals to resources for interventions outside of their scope of practice. They are also taught how to lead ROSE breastfeeding clubs. Individuals must apply to become a ROSE Community Transformer\, once the application is reviewed it is followed by a phone interview and then an invitation to the training. \nThose that participate and in this training will then be connected to all of the ROSE Community Transformers that have undergone our training. Through this network\, they will have access to resources and methods for tracking their reach. \nApplicant Criteria:\n\nHas breastfed for at least 6 months within the past 5 years\nHas a positive breastfeeding experience\nHas a vested interest in providing breastfeeding peer support in your  community\nMust commit to attending the 2-day training\n\nApplication Process:\n\nComplete Application\nApplication is reviewed\nPhone Interview will take place 2 weeks prior to the scheduled training\nInvitation to 2-day training
URL:https://breastfeedingrose.org/event/rct-training-nov-2021/
CATEGORIES:ROSE Community Transformer
ATTACH;FMTTYPE=image/png:https://breastfeedingrose.org/wp-content/uploads/2021/09/3.png
END:VEVENT
END:VCALENDAR